BEGIN:VCALENDAR
VERSION:2.0
PRODID:-//eventon.com NONSGML v1.0//EN
CALSCALE:GREGORIAN
METHOD:PUBLISH
BEGIN:VEVENT
UID:69e74a0066e0c
DTSTAMP:20260421T095720Z
DTSTART:20260424T070000Z
DTEND:20260424T090000Z
LOCATION:Auditorium de Palma Avinguda de Gabriel Roca\,  18\,  07014 Palma\,  Illes Balears
SUMMARY:9# Concierto para piano de Schumann con Olga Kern Auditorium de Palma
DESCRIPTION:CONCERT ENTRADaS PROGRAMA DE MANO E. Rautavaara\,  Cantus arcti
 cus\,  op.61\,  concierto para pájaros y orquesta R. Schumann\,  Concierto
  para piano A. Dvorak\,  Sinfonía núm. 8 Olga Kern\,  piano Rune Bergman
 n\,  director\nhttps://simfonicadebalears.com/events/9-auditorium-de-palma-
 amb-olga-kern-cast/
URL:https://simfonicadebalears.com/events/9-auditorium-de-palma-amb-olga-kern-cast/
END:VEVENT
END:VCALENDAR