BEGIN:VCALENDAR
VERSION:2.0
PRODID:-//eventon.com NONSGML v1.0//EN
CALSCALE:GREGORIAN
METHOD:PUBLISH
BEGIN:VEVENT
UID:69e8853bb46d3
DTSTAMP:20260422T082219Z
DTSTART:20260312T093000Z
DTEND:20260312T103000Z
LOCATION:Teatre Principal de Palma Carrer de la Riera\,  2\,  07003 Palma\,  Illes Balears
SUMMARY:Mil i una school performance Teatro Principal de Palma
DESCRIPTION:A combination of music\,  theater\,  and screenings\,  Mil i Un
 a presents the world of the most famous oriental— Aladdin\,  Sinbad\,  Al
 i Baba—through the brilliant Russian music of Nikolai Rimsky-Korsakov and
  Sheherezade. It also explores the legacy of centuries of Arab rule in Spai
 n and Mallorca\,  as well as the remnants[..]\nhttps://simfonicadebalears.c
 om/events/mil-i-una-school-performance-teatro-principal-de-palma-12-eng/
URL:https://simfonicadebalears.com/events/mil-i-una-school-performance-teatro-principal-de-palma-12-eng/
END:VEVENT
END:VCALENDAR