BEGIN:VCALENDAR
VERSION:2.0
PRODID:-//eventon.com NONSGML v1.0//EN
CALSCALE:GREGORIAN
METHOD:PUBLISH
BEGIN:VEVENT
UID:69e107cf73265
DTSTAMP:20260416T160119Z
DTSTART:20260430T200000Z
DTEND:20260430T220000Z
LOCATION:Teatre Principal de Palma Carrer de la Riera\,  2\,  07003 Palma\,  Illes Balears
SUMMARY:Itàlia Infinita: de l'Òpera a l'Ànima Italiana - Teatre Principal de Palma
DESCRIPTION:G. Rossini\,  Guillermo Tell\,  Obertura           
                               G. Donizetti\, 
  L’elisir d’amore “Una furtiva lagrima”        G. Donizetti\
 ,  Lucia di Lammermoor “Tombe degli avi miei… Fra poco a me ricovero…
  Tu che a Dio spiegasti l’ali” G. Verdi\,  La Traviata\,  Preludio G. V
 erdi La Traviata “Lunge da lei… De’ miei bollenti spiriti … O[..]\n
 https://simfonicadebalears.com/events/italia-infinita-de-lopera-a-lanima-it
 aliana-teatre-principal-de-palma/
URL:https://simfonicadebalears.com/events/italia-infinita-de-lopera-a-lanima-italiana-teatre-principal-de-palma/
END:VEVENT
END:VCALENDAR