BEGIN:VCALENDAR
VERSION:2.0
PRODID:-//eventon.com NONSGML v1.0//EN
CALSCALE:GREGORIAN
METHOD:PUBLISH
BEGIN:VEVENT
UID:69e66c2290629
DTSTAMP:20260420T181042Z
DTSTART:20260430T200000Z
DTEND:20260430T220000Z
LOCATION:Teatre Principal de Palma Carrer de la Riera\,  2\,  07003 Palma\,  Illes Balears
SUMMARY:Italia Infinita: de la Ópera al alma Italiana - Teatro Principal de Palma
DESCRIPTION:COMPRAR ENTRADAS G. Rossini\,  Guillermo Tell\,  Obertura   
                                      
  G. Donizetti\,  L’elisir d’amore “Una furtiva lagrima”     
   G. Donizetti\,  Lucia di Lammermoor “Tombe degli avi miei… Fra poco
  a me ricovero… Tu che a Dio spiegasti l’ali” G. Verdi\,  La Traviata
 \,  Preludio G. Verdi La Traviata “Lunge da lei… De’ miei bollenti sp
 iriti[..]\nhttps://simfonicadebalears.com/events/italia-infinita-de-lopera-
 a-lanima-italiana-teatre-principal-de-palma-cast/
URL:https://simfonicadebalears.com/events/italia-infinita-de-lopera-a-lanima-italiana-teatre-principal-de-palma-cast/
END:VEVENT
END:VCALENDAR