BEGIN:VCALENDAR
VERSION:2.0
PRODID:-//eventon.com NONSGML v1.0//EN
CALSCALE:GREGORIAN
METHOD:PUBLISH
BEGIN:VEVENT
UID:69e8885a554c2
DTSTAMP:20260422T083538Z
DTSTART:20260328T200000Z
DTEND:20260328T210000Z
LOCATION:
SUMMARY:Cuarteto de cuerda Iglesia de Sineu
DESCRIPTION:Entrada libre hasta completar el aforo Las siete Ãºltimas palab
 ras de Cristo\,  J. Haydn Smerald Spahiu\,  violÃ­n Paula MarquÃ©s\,  violÃ
 ­n Raquel Cobo\,  viola Lucrecia Garrigues\,  violonchelo\nhttps://simfonic
 adebalears.com/events/cuarteto-de-cuerda-iglesia-de-sineu/
URL:https://simfonicadebalears.com/events/cuarteto-de-cuerda-iglesia-de-sineu/
END:VEVENT
END:VCALENDAR